BEGIN:VCALENDAR
VERSION:2.0
PRODID:-//www.ketchikanarts.org//NONSGML kigkonsult.se iCalcreator 2.30.10/
 /
CALSCALE:GREGORIAN
METHOD:PUBLISH
UID:6603d77c-b6c2-4ce4-8a83-36a0e028eb5d
X-WR-CALDESC:This is a call to artists. Artwork must be delivered to Peters
 burg by October 17th!!!
X-WR-RELCALID:41fd06fda137fc48d0666879907b48f2
X-WR-TIMEZONE:America/Anchorage
BEGIN:VTIMEZONE
TZID:America/Anchorage
BEGIN:STANDARD
TZNAME:AKST
DTSTART:20241103T020000
TZOFFSETFROM:-0800
TZOFFSETTO:-0900
RDATE:20251102T020000
RDATE:20261101T020000
END:STANDARD
BEGIN:DAYLIGHT
TZNAME:AKDT
DTSTART:20250309T020000
TZOFFSETFROM:-0900
TZOFFSETTO:-0800
RDATE:20260308T020000
RDATE:20270314T020000
END:DAYLIGHT
END:VTIMEZONE
BEGIN:VEVENT
UID:e3086488-45de-4deb-ab69-357c3f36a501
DTSTAMP:20260422T140627Z
DESCRIPTION:This is a call to artists. Artwork must be delivered to Petersb
 urg by October 17th!!!
DTSTART;TZID=America/Anchorage:20251017T020000
DTEND;TZID=America/Anchorage:20251018T020001
LOCATION:Petersburg\, Alaska Public Library
SUMMARY:TalisWoman Art Show
END:VEVENT
END:VCALENDAR
