BEGIN:VCALENDAR
VERSION:2.0
PRODID:-//www.ketchikanarts.org//NONSGML kigkonsult.se iCalcreator 2.30.10/
 /
CALSCALE:GREGORIAN
METHOD:PUBLISH
UID:ae985e9e-c78a-49ca-bc4e-a2b29ed5f9fe
X-WR-CALDESC:A fabulous night will be had by all!
X-WR-RELCALID:ee83c7d4dd63abf453b0b5259b11bb9d
X-WR-TIMEZONE:America/Anchorage
BEGIN:VTIMEZONE
TZID:America/Anchorage
BEGIN:STANDARD
TZNAME:AKST
DTSTART:20241103T020000
TZOFFSETFROM:-0800
TZOFFSETTO:-0900
RDATE:20251102T020000
RDATE:20261101T020000
END:STANDARD
BEGIN:DAYLIGHT
TZNAME:AKDT
DTSTART:20250309T020000
TZOFFSETFROM:-0900
TZOFFSETTO:-0800
RDATE:20260308T020000
RDATE:20270314T020000
END:DAYLIGHT
END:VTIMEZONE
BEGIN:VEVENT
UID:393f9305-f5d4-45f0-8ee4-f0eca4c0210a
DTSTAMP:20260422T140153Z
DESCRIPTION:A fabulous night will be had by all!
DTSTART;TZID=America/Anchorage:20251012T170000
DTEND;TZID=America/Anchorage:20251012T200000
LOCATION:Creek Street Cabaret
SUMMARY:Open Mic!
END:VEVENT
END:VCALENDAR
