BEGIN:VCALENDAR
VERSION:2.0
PRODID:-//www.ketchikanarts.org//NONSGML kigkonsult.se iCalcreator 2.30.10/
 /
CALSCALE:GREGORIAN
METHOD:PUBLISH
UID:ae796bac-2d7b-48ec-a51c-38b9a2c8d277
X-WR-CALDESC:
X-WR-RELCALID:47d06333010b3a308682439506c2a9ef
X-WR-TIMEZONE:America/Anchorage
BEGIN:VTIMEZONE
TZID:America/Anchorage
BEGIN:STANDARD
TZNAME:AKST
DTSTART:20241103T020000
TZOFFSETFROM:-0800
TZOFFSETTO:-0900
RDATE:20251102T020000
RDATE:20261101T020000
END:STANDARD
BEGIN:DAYLIGHT
TZNAME:AKDT
DTSTART:20250309T020000
TZOFFSETFROM:-0900
TZOFFSETTO:-0800
RDATE:20260308T020000
RDATE:20270314T020000
END:DAYLIGHT
END:VTIMEZONE
BEGIN:VEVENT
UID:1d95901d-ed21-44c1-b33c-adccecf957cf
DTSTAMP:20260422T140459Z
DESCRIPTION:
DTSTART;TZID=America/Anchorage:20251011T173000
DTEND;TZID=America/Anchorage:20251011T193000
LOCATION:Craig Tribal Association
SUMMARY:Distinguished Men & Women Dinner Auction (Craig)
END:VEVENT
END:VCALENDAR
