BEGIN:VCALENDAR
VERSION:2.0
PRODID:-//www.ketchikanarts.org//NONSGML kigkonsult.se iCalcreator 2.30.10/
 /
CALSCALE:GREGORIAN
METHOD:PUBLISH
UID:d9671eb3-062b-449e-9ee4-17239da812b0
X-WR-CALDESC:Celebrate the Filipino American culture with food\, art\, game
 s\, dancing\, and community!!!! More information will be coming!
X-WR-RELCALID:404ba0bfa1f4f8c277f8ba7080a0226a
X-WR-TIMEZONE:America/Anchorage
BEGIN:VTIMEZONE
TZID:America/Anchorage
BEGIN:STANDARD
TZNAME:AKST
DTSTART:20241103T020000
TZOFFSETFROM:-0800
TZOFFSETTO:-0900
RDATE:20251102T020000
RDATE:20261101T020000
END:STANDARD
BEGIN:DAYLIGHT
TZNAME:AKDT
DTSTART:20250309T020000
TZOFFSETFROM:-0900
TZOFFSETTO:-0800
RDATE:20260308T020000
RDATE:20270314T020000
END:DAYLIGHT
END:VTIMEZONE
BEGIN:VEVENT
UID:b7f7bafe-7728-49e1-ba31-103e63f133bc
DTSTAMP:20260422T140939Z
DESCRIPTION:Celebrate the Filipino American culture with food\, art\, games
 \, dancing\, and community!!!! More information will be coming!
DTSTART;TZID=America/Anchorage:20251011T113000
DTEND;TZID=America/Anchorage:20251011T150000
LOCATION:The Plaza Mall
SUMMARY:5th Annual FIL-AM Festival - Ketchikan Wellness Coalition
END:VEVENT
END:VCALENDAR
