BEGIN:VCALENDAR
VERSION:2.0
PRODID:-//www.ketchikanarts.org//NONSGML kigkonsult.se iCalcreator 2.30.10/
 /
CALSCALE:GREGORIAN
METHOD:PUBLISH
UID:411c9491-51fc-4c7b-99f5-d0d8d14682de
X-WR-CALDESC:
X-WR-RELCALID:3c933ee6208e8b3c8e8b0e62a135af0c
X-WR-TIMEZONE:America/Anchorage
BEGIN:VTIMEZONE
TZID:America/Anchorage
BEGIN:STANDARD
TZNAME:AKST
DTSTART:20241103T020000
TZOFFSETFROM:-0800
TZOFFSETTO:-0900
RDATE:20251102T020000
RDATE:20261101T020000
END:STANDARD
BEGIN:DAYLIGHT
TZNAME:AKDT
DTSTART:20250309T020000
TZOFFSETFROM:-0900
TZOFFSETTO:-0800
RDATE:20260308T020000
RDATE:20270314T020000
END:DAYLIGHT
END:VTIMEZONE
BEGIN:VEVENT
UID:0f0f3984-b1cf-4c17-9894-dc0c7c7aca1e
DTSTAMP:20260422T140147Z
DESCRIPTION:
DTSTART;TZID=America/Anchorage:20251004T130000
DTEND;TZID=America/Anchorage:20251004T160000
LOCATION:Scanlon Gallery
SUMMARY:Enamel Earrings Workshop
END:VEVENT
END:VCALENDAR
