BEGIN:VCALENDAR
VERSION:2.0
PRODID:-//www.ketchikanarts.org//NONSGML kigkonsult.se iCalcreator 2.30.10/
 /
CALSCALE:GREGORIAN
METHOD:PUBLISH
UID:442bf456-6ea6-4b3a-8dfe-c05af1ee2e04
X-WR-CALDESC:
X-WR-RELCALID:99a699da4e29e46ee4c5b66f4c1315cd
X-WR-TIMEZONE:America/Anchorage
BEGIN:VTIMEZONE
TZID:America/Anchorage
BEGIN:STANDARD
TZNAME:AKST
DTSTART:20241103T020000
TZOFFSETFROM:-0800
TZOFFSETTO:-0900
RDATE:20251102T020000
RDATE:20261101T020000
END:STANDARD
BEGIN:DAYLIGHT
TZNAME:AKDT
DTSTART:20250309T020000
TZOFFSETFROM:-0900
TZOFFSETTO:-0800
RDATE:20260308T020000
RDATE:20270314T020000
END:DAYLIGHT
END:VTIMEZONE
BEGIN:VEVENT
UID:3f2f40cc-a832-494b-a9db-3dbf103e938c
DTSTAMP:20260422T140149Z
DESCRIPTION:
DTSTART;TZID=America/Anchorage:20251004T090000
DTEND;TZID=America/Anchorage:20251004T120000
LOCATION:Scanlon Gallery
SUMMARY:Enamel Earrings Workshop
END:VEVENT
END:VCALENDAR
