BEGIN:VCALENDAR
VERSION:2.0
PRODID:-//www.ketchikanarts.org//NONSGML kigkonsult.se iCalcreator 2.30.10/
 /
CALSCALE:GREGORIAN
METHOD:PUBLISH
UID:5bfd8ac9-dd7e-41aa-b9d0-3675fdb88529
X-WR-CALDESC:
X-WR-RELCALID:38718d5a94d7721c10f804f429889810
X-WR-TIMEZONE:America/Anchorage
BEGIN:VTIMEZONE
TZID:America/Anchorage
BEGIN:STANDARD
TZNAME:AKST
DTSTART:20241103T020000
TZOFFSETFROM:-0800
TZOFFSETTO:-0900
RDATE:20251102T020000
RDATE:20261101T020000
END:STANDARD
BEGIN:DAYLIGHT
TZNAME:AKDT
DTSTART:20250309T020000
TZOFFSETFROM:-0900
TZOFFSETTO:-0800
RDATE:20260308T020000
RDATE:20270314T020000
END:DAYLIGHT
END:VTIMEZONE
BEGIN:VEVENT
UID:6d2bb443-8920-4b81-b723-0e9ce1655133
DTSTAMP:20260422T140657Z
DESCRIPTION:
DTSTART;TZID=America/Anchorage:20251002T180000
DTEND;TZID=America/Anchorage:20251002T200000
LOCATION:Alaska Fish House
SUMMARY:Sea Shanties with Greg Thomas and Friends
END:VEVENT
END:VCALENDAR
