BEGIN:VCALENDAR
VERSION:2.0
PRODID:-//www.ketchikanarts.org//NONSGML kigkonsult.se iCalcreator 2.30.10/
 /
CALSCALE:GREGORIAN
METHOD:PUBLISH
UID:fbd5f0c6-5e3f-4ec9-8b86-ca888c34e9f6
X-WR-CALDESC:KCCB rehearses for the December 21st\, 2025\, 3pm performance 
 in the Kayhi Auditorium!!
X-WR-RELCALID:adc8747bac18f64cb78b57536a492bf3
X-WR-TIMEZONE:America/Anchorage
BEGIN:VTIMEZONE
TZID:America/Anchorage
BEGIN:STANDARD
TZNAME:AKST
DTSTART:20241103T020000
TZOFFSETFROM:-0800
TZOFFSETTO:-0900
RDATE:20251102T020000
RDATE:20261101T020000
END:STANDARD
BEGIN:DAYLIGHT
TZNAME:AKDT
DTSTART:20250309T020000
TZOFFSETFROM:-0900
TZOFFSETTO:-0800
RDATE:20260308T020000
RDATE:20270314T020000
END:DAYLIGHT
END:VTIMEZONE
BEGIN:VEVENT
UID:a79c3bd0-ec02-4e93-bcf1-a0896fd69364
DTSTAMP:20260422T155048Z
DESCRIPTION:KCCB rehearses for the December 21st\, 2025\, 3pm performance i
 n the Kayhi Auditorium!!
DTSTART;TZID=America/Anchorage:20250929T190000
DTEND;TZID=America/Anchorage:20250929T203000
LOCATION:First Assembly Church of God
SUMMARY:Ketchikan Community Concert Band Rehearsal
END:VEVENT
END:VCALENDAR
