BEGIN:VCALENDAR
VERSION:2.0
PRODID:-//www.ketchikanarts.org//NONSGML kigkonsult.se iCalcreator 2.30.10/
 /
CALSCALE:GREGORIAN
METHOD:PUBLISH
UID:614eab49-cd18-43c0-a30a-712329619f08
X-WR-CALDESC:
X-WR-RELCALID:dcb3eefc06f5f2470ccfa86256144fd4
X-WR-TIMEZONE:America/Anchorage
BEGIN:VTIMEZONE
TZID:America/Anchorage
BEGIN:STANDARD
TZNAME:AKST
DTSTART:20241103T020000
TZOFFSETFROM:-0800
TZOFFSETTO:-0900
RDATE:20251102T020000
RDATE:20261101T020000
END:STANDARD
BEGIN:DAYLIGHT
TZNAME:AKDT
DTSTART:20250309T020000
TZOFFSETFROM:-0900
TZOFFSETTO:-0800
RDATE:20260308T020000
RDATE:20270314T020000
END:DAYLIGHT
END:VTIMEZONE
BEGIN:VEVENT
UID:8535e227-3fc9-45a7-ab38-ac489ae701e3
DTSTAMP:20260422T154722Z
DESCRIPTION:
DTSTART;TZID=America/Anchorage:20250928T170000
DTEND;TZID=America/Anchorage:20250928T190000
LOCATION:Klawock Gym
SUMMARY:Marc Brown & The Blues Crew (Klawock)
END:VEVENT
END:VCALENDAR
