BEGIN:VCALENDAR
VERSION:2.0
PRODID:-//www.ketchikanarts.org//NONSGML kigkonsult.se iCalcreator 2.30.10/
 /
CALSCALE:GREGORIAN
METHOD:PUBLISH
UID:e8c28c29-be1b-4693-aacd-094dc16515a4
X-WR-CALDESC:A fabulous night will be had by all!
X-WR-RELCALID:c7a4cea5db6831c39e04ccdae0851447
X-WR-TIMEZONE:America/Anchorage
BEGIN:VTIMEZONE
TZID:America/Anchorage
BEGIN:STANDARD
TZNAME:AKST
DTSTART:20241103T020000
TZOFFSETFROM:-0800
TZOFFSETTO:-0900
RDATE:20251102T020000
RDATE:20261101T020000
END:STANDARD
BEGIN:DAYLIGHT
TZNAME:AKDT
DTSTART:20250309T020000
TZOFFSETFROM:-0900
TZOFFSETTO:-0800
RDATE:20260308T020000
RDATE:20270314T020000
END:DAYLIGHT
END:VTIMEZONE
BEGIN:VEVENT
UID:6356f397-f349-459c-818a-61e7a776cad6
DTSTAMP:20260422T154439Z
DESCRIPTION:A fabulous night will be had by all!
DTSTART;TZID=America/Anchorage:20250928T170000
DTEND;TZID=America/Anchorage:20250928T200000
LOCATION:Creek Street Cabaret
SUMMARY:Open Mic!
END:VEVENT
END:VCALENDAR
