BEGIN:VCALENDAR
VERSION:2.0
PRODID:-//www.ketchikanarts.org//NONSGML kigkonsult.se iCalcreator 2.30.10/
 /
CALSCALE:GREGORIAN
METHOD:PUBLISH
UID:37119930-5413-4a6e-8917-96338b074e61
X-WR-CALDESC:Free event with live music!!!!
X-WR-RELCALID:b4b23531df8b3ec09355c4d5429ea2d6
X-WR-TIMEZONE:America/Anchorage
BEGIN:VTIMEZONE
TZID:America/Anchorage
BEGIN:STANDARD
TZNAME:AKST
DTSTART:20241103T020000
TZOFFSETFROM:-0800
TZOFFSETTO:-0900
RDATE:20251102T020000
RDATE:20261101T020000
END:STANDARD
BEGIN:DAYLIGHT
TZNAME:AKDT
DTSTART:20250309T020000
TZOFFSETFROM:-0900
TZOFFSETTO:-0800
RDATE:20260308T020000
RDATE:20270314T020000
END:DAYLIGHT
END:VTIMEZONE
BEGIN:VEVENT
UID:c3ed21ae-4e16-419a-a030-56763e25a599
DTSTAMP:20260422T154909Z
DESCRIPTION:Free event with live music!!!!
DTSTART;TZID=America/Anchorage:20250927T130000
DTEND;TZID=America/Anchorage:20250927T170000
LOCATION:Red Men Hall
SUMMARY:City of Ketchikan 125th Celebration!!!
END:VEVENT
END:VCALENDAR
