BEGIN:VCALENDAR
VERSION:2.0
PRODID:-//www.ketchikanarts.org//NONSGML kigkonsult.se iCalcreator 2.30.10/
 /
CALSCALE:GREGORIAN
METHOD:PUBLISH
UID:56b9f799-5d29-4b67-8eae-f2dca928ad6e
X-WR-CALDESC:
X-WR-RELCALID:eaaf21c0483bd594a1c168e26bcd482c
X-WR-TIMEZONE:America/Anchorage
BEGIN:VTIMEZONE
TZID:America/Anchorage
BEGIN:STANDARD
TZNAME:AKST
DTSTART:20241103T020000
TZOFFSETFROM:-0800
TZOFFSETTO:-0900
RDATE:20251102T020000
RDATE:20261101T020000
END:STANDARD
BEGIN:DAYLIGHT
TZNAME:AKDT
DTSTART:20250309T020000
TZOFFSETFROM:-0900
TZOFFSETTO:-0800
RDATE:20260308T020000
RDATE:20270314T020000
END:DAYLIGHT
END:VTIMEZONE
BEGIN:VEVENT
UID:5668ba01-3499-424b-9c59-ce89ad1eaa40
DTSTAMP:20260422T155952Z
DESCRIPTION:
DTSTART;TZID=America/Anchorage:20250923T200000
DTEND;TZID=America/Anchorage:20250923T220000
LOCATION:Totem Bar
SUMMARY:Karaoke at the Totem Bar
END:VEVENT
END:VCALENDAR
