BEGIN:VCALENDAR
VERSION:2.0
PRODID:-//www.ketchikanarts.org//NONSGML kigkonsult.se iCalcreator 2.30.10/
 /
CALSCALE:GREGORIAN
METHOD:PUBLISH
UID:0c08df24-2a6e-4dc3-bfd3-ff77a3b12dc8
X-WR-CALDESC:Visit [INSERT ART] at 125 Main Street and see works on display
  and visit with the artists!  \n\n\n[INSERT ART] is a program of the Ketch
 ikan Area Arts and Humanities Council.
X-WR-RELCALID:c944e43bd983c7bf641353c7b48bbfec
X-WR-TIMEZONE:America/Anchorage
BEGIN:VTIMEZONE
TZID:America/Anchorage
BEGIN:STANDARD
TZNAME:AKST
DTSTART:20241103T020000
TZOFFSETFROM:-0800
TZOFFSETTO:-0900
RDATE:20251102T020000
RDATE:20261101T020000
END:STANDARD
BEGIN:DAYLIGHT
TZNAME:AKDT
DTSTART:20250309T020000
TZOFFSETFROM:-0900
TZOFFSETTO:-0800
RDATE:20260308T020000
RDATE:20270314T020000
END:DAYLIGHT
END:VTIMEZONE
BEGIN:VEVENT
UID:ac27a54f-3b02-4138-97bd-20921941f614
DTSTAMP:20260422T154311Z
DESCRIPTION:Visit [INSERT ART] at 125 Main Street and see works on display 
 and visit with the artists!  \n\n\n[INSERT ART] is a program of the Ketchi
 kan Area Arts and Humanities Council.
DTSTART;TZID=America/Anchorage:20250921T110000
DTEND;TZID=America/Anchorage:20250921T150000
LOCATION:125 Main Street
SUMMARY:Open Studio! - [INSERT ART]
END:VEVENT
END:VCALENDAR
