BEGIN:VCALENDAR
VERSION:2.0
PRODID:-//www.ketchikanarts.org//NONSGML kigkonsult.se iCalcreator 2.30.10/
 /
CALSCALE:GREGORIAN
METHOD:PUBLISH
UID:3f3daeec-8611-4eec-842b-6f2c66496758
X-WR-CALDESC:Its a crazy 24-hours for the Kayhi Drama Kings - but definitel
 y worth it!!!\n\nTickets:\n$10 Youth\, $15 Adults
X-WR-RELCALID:822fc0cf72fd89e531a2b942c91291b5
X-WR-TIMEZONE:America/Anchorage
BEGIN:VTIMEZONE
TZID:America/Anchorage
BEGIN:STANDARD
TZNAME:AKST
DTSTART:20241103T020000
TZOFFSETFROM:-0800
TZOFFSETTO:-0900
RDATE:20251102T020000
RDATE:20261101T020000
END:STANDARD
BEGIN:DAYLIGHT
TZNAME:AKDT
DTSTART:20250309T020000
TZOFFSETFROM:-0900
TZOFFSETTO:-0800
RDATE:20260308T020000
RDATE:20270314T020000
END:DAYLIGHT
END:VTIMEZONE
BEGIN:VEVENT
UID:6ebef948-3f38-47a5-9367-1fe97131a27c
DTSTAMP:20260422T154926Z
DESCRIPTION:Its a crazy 24-hours for the Kayhi Drama Kings - but definitely
  worth it!!!\n\nTickets:\n$10 Youth\, $15 Adults
DTSTART;TZID=America/Anchorage:20250920T190000
DTEND;TZID=America/Anchorage:20250920T210000
LOCATION:Kayhi Auditorium
SUMMARY:Kayhi Drama Kings 24-Hour Festival
END:VEVENT
END:VCALENDAR
