BEGIN:VCALENDAR
VERSION:2.0
PRODID:-//www.ketchikanarts.org//NONSGML kigkonsult.se iCalcreator 2.30.10/
 /
CALSCALE:GREGORIAN
METHOD:PUBLISH
UID:f0bf3ad6-c183-45cf-9f75-3bcba91ca877
X-WR-CALDESC:
X-WR-RELCALID:c73331cff712a387f19ad5e2617a4cbe
X-WR-TIMEZONE:America/Anchorage
BEGIN:VTIMEZONE
TZID:America/Anchorage
BEGIN:STANDARD
TZNAME:AKST
DTSTART:20241103T020000
TZOFFSETFROM:-0800
TZOFFSETTO:-0900
RDATE:20251102T020000
RDATE:20261101T020000
END:STANDARD
BEGIN:DAYLIGHT
TZNAME:AKDT
DTSTART:20250309T020000
TZOFFSETFROM:-0900
TZOFFSETTO:-0800
RDATE:20260308T020000
RDATE:20270314T020000
END:DAYLIGHT
END:VTIMEZONE
BEGIN:VEVENT
UID:82b2f8e0-ab3f-4433-a7f0-fcc5432e4b49
DTSTAMP:20260422T160004Z
DESCRIPTION:
DTSTART;TZID=America/Anchorage:20250918T180000
DTEND;TZID=America/Anchorage:20250918T200000
LOCATION:Eagle's Nest
SUMMARY:Live Music at the Eagles Nest
END:VEVENT
END:VCALENDAR
