BEGIN:VCALENDAR
VERSION:2.0
PRODID:-//www.ketchikanarts.org//NONSGML kigkonsult.se iCalcreator 2.30.10/
 /
CALSCALE:GREGORIAN
METHOD:PUBLISH
UID:a6f8cee0-5910-4e4e-8ad4-058d3370532b
X-WR-CALDESC:
X-WR-RELCALID:84beb1de4bc1860f2379e982e93a7752
X-WR-TIMEZONE:America/Anchorage
BEGIN:VTIMEZONE
TZID:America/Anchorage
BEGIN:STANDARD
TZNAME:AKST
DTSTART:20241103T020000
TZOFFSETFROM:-0800
TZOFFSETTO:-0900
RDATE:20251102T020000
RDATE:20261101T020000
END:STANDARD
BEGIN:DAYLIGHT
TZNAME:AKDT
DTSTART:20250309T020000
TZOFFSETFROM:-0900
TZOFFSETTO:-0800
RDATE:20260308T020000
END:DAYLIGHT
END:VTIMEZONE
BEGIN:VEVENT
UID:62c4db1e-bc43-4c6d-a82b-09f5abf5981a
DTSTAMP:20260422T155049Z
DESCRIPTION:
DTSTART;TZID=America/Anchorage:20250911T180000
DTEND;TZID=America/Anchorage:20250911T200000
LOCATION:Eagle's Nest
SUMMARY:Live Music at the Eagles Nest
END:VEVENT
END:VCALENDAR
