BEGIN:VCALENDAR
VERSION:2.0
PRODID:-//www.ketchikanarts.org//NONSGML kigkonsult.se iCalcreator 2.30.10/
 /
CALSCALE:GREGORIAN
METHOD:PUBLISH
UID:5fb04c60-92b2-4076-9329-d701d90a3f14
X-WR-CALDESC:Collage Night at [INSERT ART]!!! Bring a project or start a ne
 w one! Materials availability. $10\n\n[INSERT ART] is a program of the Ket
 chikan Area Arts and Humanities Council.
X-WR-RELCALID:deff23c5614df883e2c7b0d4d39d2933
X-WR-TIMEZONE:America/Anchorage
BEGIN:VTIMEZONE
TZID:America/Anchorage
BEGIN:STANDARD
TZNAME:AKST
DTSTART:20241103T020000
TZOFFSETFROM:-0800
TZOFFSETTO:-0900
RDATE:20251102T020000
RDATE:20261101T020000
END:STANDARD
BEGIN:DAYLIGHT
TZNAME:AKDT
DTSTART:20250309T020000
TZOFFSETFROM:-0900
TZOFFSETTO:-0800
RDATE:20260308T020000
END:DAYLIGHT
END:VTIMEZONE
BEGIN:VEVENT
UID:d7e6ab97-95b2-4592-acad-495badfe40e6
DTSTAMP:20260422T154322Z
DESCRIPTION:Collage Night at [INSERT ART]!!! Bring a project or start a new
  one! Materials availability. $10\n\n[INSERT ART] is a program of the Ketc
 hikan Area Arts and Humanities Council.
DTSTART;TZID=America/Anchorage:20250910T170000
DTEND;TZID=America/Anchorage:20250910T210000
LOCATION:125 Main Street
SUMMARY:Collage Night - [INSERT ART]
END:VEVENT
END:VCALENDAR
