BEGIN:VCALENDAR
VERSION:2.0
PRODID:-//www.ketchikanarts.org//NONSGML kigkonsult.se iCalcreator 2.30.10/
 /
CALSCALE:GREGORIAN
METHOD:PUBLISH
UID:a5cfce9d-772c-4950-803a-2f2e5cd37ca6
X-WR-CALDESC:Call or Email for your moment to shine!
X-WR-RELCALID:5bc1683046ebf433adc800644ff74a86
X-WR-TIMEZONE:America/Anchorage
BEGIN:VTIMEZONE
TZID:America/Anchorage
BEGIN:STANDARD
TZNAME:AKST
DTSTART:20241103T020000
TZOFFSETFROM:-0800
TZOFFSETTO:-0900
RDATE:20251102T020000
RDATE:20261101T020000
END:STANDARD
BEGIN:DAYLIGHT
TZNAME:AKDT
DTSTART:20250309T020000
TZOFFSETFROM:-0900
TZOFFSETTO:-0800
RDATE:20260308T020000
END:DAYLIGHT
END:VTIMEZONE
BEGIN:VEVENT
UID:4bdaa500-6270-4ada-87ab-f970194413bd
DTSTAMP:20260422T154733Z
DESCRIPTION:Call or Email for your moment to shine!
DTSTART;TZID=America/Anchorage:20250910T183000
DTEND;TZID=America/Anchorage:20250910T203000
LOCATION:
SUMMARY:'Rent' Auditions - First City Players
END:VEVENT
END:VCALENDAR
