BEGIN:VCALENDAR
VERSION:2.0
PRODID:-//www.ketchikanarts.org//NONSGML kigkonsult.se iCalcreator 2.30.10/
 /
CALSCALE:GREGORIAN
METHOD:PUBLISH
UID:cb8eddba-b6d9-4882-8690-9451165b92d4
X-WR-CALDESC:CFCF has another exciting Open Workshop at the Cape Fox Cultur
 al Foundation. All ages are welcome. Bring your projects\, new or old\, an
 d let's create together.
X-WR-RELCALID:be44f1a92dead5dd6f1709de71a13243
X-WR-TIMEZONE:America/Anchorage
BEGIN:VTIMEZONE
TZID:America/Anchorage
BEGIN:STANDARD
TZNAME:AKST
DTSTART:20241103T020000
TZOFFSETFROM:-0800
TZOFFSETTO:-0900
RDATE:20251102T020000
RDATE:20261101T020000
END:STANDARD
BEGIN:DAYLIGHT
TZNAME:AKDT
DTSTART:20250309T020000
TZOFFSETFROM:-0900
TZOFFSETTO:-0800
RDATE:20260308T020000
END:DAYLIGHT
END:VTIMEZONE
BEGIN:VEVENT
UID:de549c21-4b75-4865-94d6-8176cfd28018
DTSTAMP:20260422T154312Z
DESCRIPTION:CFCF has another exciting Open Workshop at the Cape Fox Cultura
 l Foundation. All ages are welcome. Bring your projects\, new or old\, and
  let's create together.
DTSTART;TZID=America/Anchorage:20250907T100000
DTEND;TZID=America/Anchorage:20250907T170000
LOCATION:Cape Fox Cultural Center - 156/160 Dog Salmon Road
SUMMARY:Cape Fox Open Workshop
END:VEVENT
END:VCALENDAR
