BEGIN:VCALENDAR
VERSION:2.0
PRODID:-//www.ketchikanarts.org//NONSGML kigkonsult.se iCalcreator 2.30.10/
 /
CALSCALE:GREGORIAN
METHOD:PUBLISH
UID:c48bba62-ed47-4012-81d9-9e093172d9ec
X-WR-CALDESC:
X-WR-RELCALID:1036be97f42f6dc094d9665f39f0cbd0
X-WR-TIMEZONE:America/Anchorage
BEGIN:VTIMEZONE
TZID:America/Anchorage
BEGIN:STANDARD
TZNAME:AKST
DTSTART:20241103T020000
TZOFFSETFROM:-0800
TZOFFSETTO:-0900
RDATE:20251102T020000
RDATE:20261101T020000
END:STANDARD
BEGIN:DAYLIGHT
TZNAME:AKDT
DTSTART:20250309T020000
TZOFFSETFROM:-0900
TZOFFSETTO:-0800
RDATE:20260308T020000
END:DAYLIGHT
END:VTIMEZONE
BEGIN:VEVENT
UID:be9c8ae8-6aa4-4524-a395-789905941151
DTSTAMP:20260422T154721Z
DESCRIPTION:
DTSTART;TZID=America/Anchorage:20250906T183000
DTEND;TZID=America/Anchorage:20250906T203000
LOCATION:433 Jackson Street
SUMMARY:Wine & Food Pairing - Holy Name Silent Auction
END:VEVENT
END:VCALENDAR
