BEGIN:VCALENDAR
VERSION:2.0
PRODID:-//www.ketchikanarts.org//NONSGML kigkonsult.se iCalcreator 2.30.10/
 /
CALSCALE:GREGORIAN
METHOD:PUBLISH
UID:1dee4e7b-6473-4be1-8a4e-ec81432c829d
X-WR-CALDESC:
X-WR-RELCALID:79784a427428771412e244249ed5d6f1
X-WR-TIMEZONE:America/Anchorage
BEGIN:VTIMEZONE
TZID:America/Anchorage
BEGIN:STANDARD
TZNAME:AKST
DTSTART:20241103T020000
TZOFFSETFROM:-0800
TZOFFSETTO:-0900
RDATE:20251102T020000
RDATE:20261101T020000
END:STANDARD
BEGIN:DAYLIGHT
TZNAME:AKDT
DTSTART:20250309T020000
TZOFFSETFROM:-0900
TZOFFSETTO:-0800
RDATE:20260308T020000
END:DAYLIGHT
END:VTIMEZONE
BEGIN:VEVENT
UID:99511042-9d64-43b7-ac79-4f20b4a4b4ac
DTSTAMP:20260422T154435Z
DESCRIPTION:
DTSTART;TZID=America/Anchorage:20250905T153000
DTEND;TZID=America/Anchorage:20250905T163000
LOCATION:KAYHI AUDITORIUM
SUMMARY:KAYHI Auditions
END:VEVENT
END:VCALENDAR
