BEGIN:VCALENDAR
VERSION:2.0
PRODID:-//www.ketchikanarts.org//NONSGML kigkonsult.se iCalcreator 2.30.10/
 /
CALSCALE:GREGORIAN
METHOD:PUBLISH
UID:c2cf2d19-dc2f-4a98-ad43-a384375898ed
X-WR-CALDESC:
X-WR-RELCALID:4a0ba55de9ca9eb5183ea5e9a7b1fb6c
X-WR-TIMEZONE:America/Anchorage
BEGIN:VTIMEZONE
TZID:America/Anchorage
BEGIN:STANDARD
TZNAME:AKST
DTSTART:20241103T020000
TZOFFSETFROM:-0800
TZOFFSETTO:-0900
RDATE:20251102T020000
RDATE:20261101T020000
END:STANDARD
BEGIN:DAYLIGHT
TZNAME:AKDT
DTSTART:20250309T020000
TZOFFSETFROM:-0900
TZOFFSETTO:-0800
RDATE:20260308T020000
END:DAYLIGHT
END:VTIMEZONE
BEGIN:VEVENT
UID:8a00bdd5-204f-4966-9093-6db1538b0059
DTSTAMP:20260422T154456Z
DESCRIPTION:
DTSTART;TZID=America/Anchorage:20250905T160000
DTEND;TZID=America/Anchorage:20250905T180000
LOCATION:Craig\, Alaska
SUMMARY:First Friday Art Walk in Craig!!!
END:VEVENT
END:VCALENDAR
