BEGIN:VCALENDAR
VERSION:2.0
PRODID:-//www.ketchikanarts.org//NONSGML kigkonsult.se iCalcreator 2.30.10/
 /
CALSCALE:GREGORIAN
METHOD:PUBLISH
UID:b3450df9-2548-4cfd-a361-ee73a993eaa0
X-WR-CALDESC:Traditional Filipino Dance & Music Classes!!!  Details are bei
 ng firmed up but contact Czarina for more information!!!
X-WR-RELCALID:7df706552c61cf3c651814adc3d67b91
X-WR-TIMEZONE:America/Anchorage
BEGIN:VTIMEZONE
TZID:America/Anchorage
BEGIN:STANDARD
TZNAME:AKST
DTSTART:20241103T020000
TZOFFSETFROM:-0800
TZOFFSETTO:-0900
RDATE:20251102T020000
RDATE:20261101T020000
END:STANDARD
BEGIN:DAYLIGHT
TZNAME:AKDT
DTSTART:20250309T020000
TZOFFSETFROM:-0900
TZOFFSETTO:-0800
RDATE:20260308T020000
END:DAYLIGHT
END:VTIMEZONE
BEGIN:VEVENT
UID:b20926f8-f218-4d2c-b4b5-08e4106ec7b8
DTSTAMP:20260422T154724Z
DESCRIPTION:Traditional Filipino Dance & Music Classes!!!  Details are bein
 g firmed up but contact Czarina for more information!!!
DTSTART;TZID=America/Anchorage:20250903T130000
DTEND;TZID=America/Anchorage:20250903T143000
LOCATION:TBA!!!
SUMMARY:Magsayawan Ketchikan Dance & Music Classes
END:VEVENT
END:VCALENDAR
