BEGIN:VCALENDAR
VERSION:2.0
PRODID:-//www.ketchikanarts.org//NONSGML kigkonsult.se iCalcreator 2.30.10/
 /
CALSCALE:GREGORIAN
METHOD:PUBLISH
UID:9ee4faa6-5b3f-4a58-8285-d8a4958b0a82
X-WR-CALDESC:
X-WR-RELCALID:49f095435c20cf8385841fe0de35d165
X-WR-TIMEZONE:America/Anchorage
BEGIN:VTIMEZONE
TZID:America/Anchorage
BEGIN:STANDARD
TZNAME:AKST
DTSTART:20241103T020000
TZOFFSETFROM:-0800
TZOFFSETTO:-0900
RDATE:20251102T020000
RDATE:20261101T020000
END:STANDARD
BEGIN:DAYLIGHT
TZNAME:AKDT
DTSTART:20250309T020000
TZOFFSETFROM:-0900
TZOFFSETTO:-0800
RDATE:20260308T020000
END:DAYLIGHT
END:VTIMEZONE
BEGIN:VEVENT
UID:5b1a66ad-e29d-4b08-a2d3-75fa0353cbcb
DTSTAMP:20260422T154432Z
DESCRIPTION:
DTSTART;TZID=America/Anchorage:20250902T193000
DTEND;TZID=America/Anchorage:20250902T213000
LOCATION:Creek Street Cabaret
SUMMARY:Sitka Jazz performs in Ketchikan
END:VEVENT
END:VCALENDAR
