BEGIN:VCALENDAR
VERSION:2.0
PRODID:-//www.ketchikanarts.org//NONSGML kigkonsult.se iCalcreator 2.30.10/
 /
CALSCALE:GREGORIAN
METHOD:PUBLISH
UID:c772d98d-3c78-463d-bdb1-f76095c47ef2
X-WR-CALDESC:Traditional Filipino Dance & Music Classes!!!  Details are bei
 ng firmed up but contact Czarina for more information!!!
X-WR-RELCALID:124829aff748056bba60ad3fae6d43ba
X-WR-TIMEZONE:America/Anchorage
BEGIN:VTIMEZONE
TZID:America/Anchorage
BEGIN:STANDARD
TZNAME:AKST
DTSTART:20241103T020000
TZOFFSETFROM:-0800
TZOFFSETTO:-0900
RDATE:20251102T020000
RDATE:20261101T020000
END:STANDARD
BEGIN:DAYLIGHT
TZNAME:AKDT
DTSTART:20250309T020000
TZOFFSETFROM:-0900
TZOFFSETTO:-0800
RDATE:20260308T020000
END:DAYLIGHT
END:VTIMEZONE
BEGIN:VEVENT
UID:323d7c76-29de-4902-aebd-22835ec86276
DTSTAMP:20260422T173531Z
DESCRIPTION:Traditional Filipino Dance & Music Classes!!!  Details are bein
 g firmed up but contact Czarina for more information!!!
DTSTART;TZID=America/Anchorage:20250831T110000
DTEND;TZID=America/Anchorage:20250831T130000
LOCATION:TBA!!!
SUMMARY:Magsayawan Ketchikan Dance & Music Classes
END:VEVENT
END:VCALENDAR
