BEGIN:VCALENDAR
VERSION:2.0
PRODID:-//www.ketchikanarts.org//NONSGML kigkonsult.se iCalcreator 2.30.10/
 /
CALSCALE:GREGORIAN
METHOD:PUBLISH
UID:7e2db279-6614-408c-b36b-65a4546c8613
X-WR-CALDESC:Connect\, unwind\, and enjoy good company. Sip on a variety of
  drinks\, including refreshing non-alcoholic mixed drinks. Whether you’re 
 here to make new friends or simply enjoy a laid-back evening\, everyone is
  welcome!
X-WR-RELCALID:073e9011aafa5cbfc8c2038ce9c2c085
X-WR-TIMEZONE:America/Anchorage
BEGIN:VTIMEZONE
TZID:America/Anchorage
BEGIN:STANDARD
TZNAME:AKST
DTSTART:20241103T020000
TZOFFSETFROM:-0800
TZOFFSETTO:-0900
RDATE:20251102T020000
RDATE:20261101T020000
END:STANDARD
BEGIN:DAYLIGHT
TZNAME:AKDT
DTSTART:20250309T020000
TZOFFSETFROM:-0900
TZOFFSETTO:-0800
RDATE:20260308T020000
END:DAYLIGHT
END:VTIMEZONE
BEGIN:VEVENT
UID:f9d1cae3-5cbb-476d-b521-e57bbaadd0fb
DTSTAMP:20260422T171313Z
DESCRIPTION:Connect\, unwind\, and enjoy good company. Sip on a variety of 
 drinks\, including refreshing non-alcoholic mixed drinks. Whether you’re h
 ere to make new friends or simply enjoy a laid-back evening\, everyone is 
 welcome!
DTSTART;TZID=America/Anchorage:20250828T170000
DTEND;TZID=America/Anchorage:20250828T180000
LOCATION:Alaska Legends
SUMMARY:Queer Social Hour
END:VEVENT
END:VCALENDAR
