BEGIN:VCALENDAR
VERSION:2.0
PRODID:-//www.ketchikanarts.org//NONSGML kigkonsult.se iCalcreator 2.30.10/
 /
CALSCALE:GREGORIAN
METHOD:PUBLISH
UID:91f85701-b65e-4f1c-9931-2778ffd999e7
X-WR-CALDESC:
X-WR-RELCALID:3208be570de0051c329a2b391c36f970
X-WR-TIMEZONE:America/Anchorage
BEGIN:VTIMEZONE
TZID:America/Anchorage
BEGIN:STANDARD
TZNAME:AKST
DTSTART:20241103T020000
TZOFFSETFROM:-0800
TZOFFSETTO:-0900
RDATE:20251102T020000
RDATE:20261101T020000
END:STANDARD
BEGIN:DAYLIGHT
TZNAME:AKDT
DTSTART:20250309T020000
TZOFFSETFROM:-0900
TZOFFSETTO:-0800
RDATE:20260308T020000
END:DAYLIGHT
END:VTIMEZONE
BEGIN:VEVENT
UID:0efe0fbf-18b1-4ba9-8bc9-82b87c622c9d
DTSTAMP:20260422T171456Z
DESCRIPTION:
DTSTART;TZID=America/Anchorage:20250823T183000
DTEND;TZID=America/Anchorage:20250823T190000
LOCATION:#5 Creek Street
SUMMARY:Literary Reading - Owen Oliver
END:VEVENT
END:VCALENDAR
