BEGIN:VCALENDAR
VERSION:2.0
PRODID:-//www.ketchikanarts.org//NONSGML kigkonsult.se iCalcreator 2.30.10/
 /
CALSCALE:GREGORIAN
METHOD:PUBLISH
UID:8b2d0efa-c725-41e4-b4b4-406dae441558
X-WR-CALDESC:
X-WR-RELCALID:a4e5c02e00771640523f88d86f8c2eee
X-WR-TIMEZONE:America/Anchorage
BEGIN:VTIMEZONE
TZID:America/Anchorage
BEGIN:STANDARD
TZNAME:AKST
DTSTART:20241103T020000
TZOFFSETFROM:-0800
TZOFFSETTO:-0900
RDATE:20251102T020000
RDATE:20261101T020000
END:STANDARD
BEGIN:DAYLIGHT
TZNAME:AKDT
DTSTART:20250309T020000
TZOFFSETFROM:-0900
TZOFFSETTO:-0800
RDATE:20260308T020000
END:DAYLIGHT
END:VTIMEZONE
BEGIN:VEVENT
UID:0df41dcf-5662-4eb5-889e-992f0b29d2a7
DTSTAMP:20260422T173802Z
DESCRIPTION:
DTSTART;TZID=America/Anchorage:20250823T210000
DTEND;TZID=America/Anchorage:20250823T233000
LOCATION:The Arctic Bar
SUMMARY:LEX The Siren - Artist and DJ at the ARCTIC BAR
END:VEVENT
END:VCALENDAR
