BEGIN:VCALENDAR
VERSION:2.0
PRODID:-//www.ketchikanarts.org//NONSGML kigkonsult.se iCalcreator 2.30.10/
 /
CALSCALE:GREGORIAN
METHOD:PUBLISH
UID:02ec594f-8640-4f55-b9f3-5c91651fccb1
X-WR-CALDESC:
X-WR-RELCALID:a3e10a058df0eea54c5923eabd03ae3f
X-WR-TIMEZONE:America/Anchorage
BEGIN:VTIMEZONE
TZID:America/Anchorage
BEGIN:STANDARD
TZNAME:AKST
DTSTART:20241103T020000
TZOFFSETFROM:-0800
TZOFFSETTO:-0900
RDATE:20251102T020000
RDATE:20261101T020000
END:STANDARD
BEGIN:DAYLIGHT
TZNAME:AKDT
DTSTART:20250309T020000
TZOFFSETFROM:-0900
TZOFFSETTO:-0800
RDATE:20260308T020000
END:DAYLIGHT
END:VTIMEZONE
BEGIN:VEVENT
UID:c5976dc6-1207-4f62-bc96-8d57ff8090d1
DTSTAMP:20260422T173625Z
DESCRIPTION:
DTSTART;TZID=America/Anchorage:20250823T100000
DTEND;TZID=America/Anchorage:20250823T170000
LOCATION:400 Mission St
SUMMARY:Ketchikan Theatre Ballet Pop Up Shop!
END:VEVENT
END:VCALENDAR
