BEGIN:VCALENDAR
VERSION:2.0
PRODID:-//www.ketchikanarts.org//NONSGML kigkonsult.se iCalcreator 2.30.10/
 /
CALSCALE:GREGORIAN
METHOD:PUBLISH
UID:074691c7-79c4-4fb2-a247-ea0e46ac11f4
X-WR-CALDESC:
X-WR-RELCALID:c29e92d493bdbd5a7e6b4004b60a1e31
X-WR-TIMEZONE:America/Anchorage
BEGIN:VTIMEZONE
TZID:America/Anchorage
BEGIN:STANDARD
TZNAME:AKST
DTSTART:20241103T020000
TZOFFSETFROM:-0800
TZOFFSETTO:-0900
RDATE:20251102T020000
RDATE:20261101T020000
END:STANDARD
BEGIN:DAYLIGHT
TZNAME:AKDT
DTSTART:20250309T020000
TZOFFSETFROM:-0900
TZOFFSETTO:-0800
RDATE:20260308T020000
END:DAYLIGHT
END:VTIMEZONE
BEGIN:VEVENT
UID:87564c95-9953-4786-b9e6-80560738ba01
DTSTAMP:20260422T173410Z
DESCRIPTION:
DTSTART;TZID=America/Anchorage:20250823T193000
DTEND;TZID=America/Anchorage:20250823T220000
LOCATION:Creek Street CAbaret
SUMMARY:Joe Williams  34th Birthday Party!!!!
END:VEVENT
END:VCALENDAR
