BEGIN:VCALENDAR
VERSION:2.0
PRODID:-//www.ketchikanarts.org//NONSGML kigkonsult.se iCalcreator 2.30.10/
 /
CALSCALE:GREGORIAN
METHOD:PUBLISH
UID:024e4958-eef3-4f9e-807f-9a3fffa4e3be
X-WR-CALDESC:Join other procrastinators!\n$10 suggested donation\, Or just 
 bring a snack!
X-WR-RELCALID:08168298c5685cbeb1a54bbbf72c6b7c
X-WR-TIMEZONE:America/Anchorage
BEGIN:VTIMEZONE
TZID:America/Anchorage
BEGIN:STANDARD
TZNAME:AKST
DTSTART:20241103T020000
TZOFFSETFROM:-0800
TZOFFSETTO:-0900
RDATE:20251102T020000
RDATE:20261101T020000
END:STANDARD
BEGIN:DAYLIGHT
TZNAME:AKDT
DTSTART:20250309T020000
TZOFFSETFROM:-0900
TZOFFSETTO:-0800
RDATE:20260308T020000
END:DAYLIGHT
END:VTIMEZONE
BEGIN:VEVENT
UID:d2d6ece0-75a0-4e87-8a7b-604f04df26d9
DTSTAMP:20260422T171219Z
DESCRIPTION:Join other procrastinators!\n$10 suggested donation\, Or just b
 ring a snack!
DTSTART;TZID=America/Anchorage:20250821T180000
DTEND;TZID=America/Anchorage:20250821T210000
LOCATION:125 Main Street
SUMMARY:WIP Night! @ [Insert Art]
END:VEVENT
END:VCALENDAR
