BEGIN:VCALENDAR
VERSION:2.0
PRODID:-//www.ketchikanarts.org//NONSGML kigkonsult.se iCalcreator 2.30.10/
 /
CALSCALE:GREGORIAN
METHOD:PUBLISH
UID:28ef6c07-ca41-4209-bff5-41dcbd460c30
X-WR-CALDESC:
X-WR-RELCALID:064b6e3e5898b9c79027a9f0630374ec
X-WR-TIMEZONE:America/Anchorage
BEGIN:VTIMEZONE
TZID:America/Anchorage
BEGIN:STANDARD
TZNAME:AKST
DTSTART:20241103T020000
TZOFFSETFROM:-0800
TZOFFSETTO:-0900
RDATE:20251102T020000
RDATE:20261101T020000
END:STANDARD
BEGIN:DAYLIGHT
TZNAME:AKDT
DTSTART:20250309T020000
TZOFFSETFROM:-0900
TZOFFSETTO:-0800
RDATE:20260308T020000
END:DAYLIGHT
END:VTIMEZONE
BEGIN:VEVENT
UID:fb2075f0-a4f6-41ed-936a-041c4e4f8ee8
DTSTAMP:20260422T171626Z
DESCRIPTION:
DTSTART;TZID=America/Anchorage:20250819T180000
DTEND;TZID=America/Anchorage:20250819T210000
LOCATION:Hole in the Wall
SUMMARY:Open Mic - hosted by Rick Llyod
END:VEVENT
END:VCALENDAR
