BEGIN:VCALENDAR
VERSION:2.0
PRODID:-//www.ketchikanarts.org//NONSGML kigkonsult.se iCalcreator 2.30.10/
 /
CALSCALE:GREGORIAN
METHOD:PUBLISH
UID:0c351db4-baaf-42f2-bbf9-9fa39ebe7655
X-WR-CALDESC:Always noon to 1pm\, its a great opportunity to take your lunc
 h outside\, and hear great music performed by awesome local musicians!\n\n
 Music on the Dock is a program of the City of Ketchikan administered by th
 e Ketchikan Area Arts and Humanities Council.
X-WR-RELCALID:a3cad9e9be103261526ecb7ad2b887eb
X-WR-TIMEZONE:America/Anchorage
BEGIN:VTIMEZONE
TZID:America/Anchorage
BEGIN:STANDARD
TZNAME:AKST
DTSTART:20241103T020000
TZOFFSETFROM:-0800
TZOFFSETTO:-0900
RDATE:20251102T020000
RDATE:20261101T020000
END:STANDARD
BEGIN:DAYLIGHT
TZNAME:AKDT
DTSTART:20250309T020000
TZOFFSETFROM:-0900
TZOFFSETTO:-0800
RDATE:20260308T020000
END:DAYLIGHT
END:VTIMEZONE
BEGIN:VEVENT
UID:576d61fc-8300-429c-b5f0-8e624497b14a
DTSTAMP:20260422T172641Z
DESCRIPTION:Always noon to 1pm\, its a great opportunity to take your lunch
  outside\, and hear great music performed by awesome local musicians!\n\nM
 usic on the Dock is a program of the City of Ketchikan administered by the
  Ketchikan Area Arts and Humanities Council.
DTSTART;TZID=America/Anchorage:20250818T120000
DTEND;TZID=America/Anchorage:20250818T130000
LOCATION:Berth 2 if its not raining\, Berth 3 shelter if it is!
SUMMARY:Ketchikan Community Chorus performs during Music on the Dock
END:VEVENT
END:VCALENDAR
