BEGIN:VCALENDAR
VERSION:2.0
PRODID:-//www.ketchikanarts.org//NONSGML kigkonsult.se iCalcreator 2.30.10/
 /
CALSCALE:GREGORIAN
METHOD:PUBLISH
UID:4c6066ff-e1c4-43af-8d25-aae89ea90391
X-WR-CALDESC:A fabulous night will be had by all!
X-WR-RELCALID:e7d1b5a4e17e2dd10800f0eeb428242c
X-WR-TIMEZONE:America/Anchorage
BEGIN:VTIMEZONE
TZID:America/Anchorage
BEGIN:STANDARD
TZNAME:AKST
DTSTART:20241103T020000
TZOFFSETFROM:-0800
TZOFFSETTO:-0900
RDATE:20251102T020000
RDATE:20261101T020000
END:STANDARD
BEGIN:DAYLIGHT
TZNAME:AKDT
DTSTART:20250309T020000
TZOFFSETFROM:-0900
TZOFFSETTO:-0800
RDATE:20260308T020000
END:DAYLIGHT
END:VTIMEZONE
BEGIN:VEVENT
UID:be999bf1-80e1-4db4-bb18-9eb5b314161e
DTSTAMP:20260422T171418Z
DESCRIPTION:A fabulous night will be had by all!
DTSTART;TZID=America/Anchorage:20250817T170000
DTEND;TZID=America/Anchorage:20250817T200000
LOCATION:Creek Street Cabaret
SUMMARY:Open Mic!
END:VEVENT
END:VCALENDAR
