BEGIN:VCALENDAR
VERSION:2.0
PRODID:-//www.ketchikanarts.org//NONSGML kigkonsult.se iCalcreator 2.30.10/
 /
CALSCALE:GREGORIAN
METHOD:PUBLISH
UID:4fcf301a-7f9a-45fd-aed7-940290bb660e
X-WR-CALDESC:Traditional Filipino Dance & Music Classes!!!  Details are bei
 ng firmed up but contact Czarina for more information!!!
X-WR-RELCALID:8787a6cd18c38864a1c34db50c1d7c6f
X-WR-TIMEZONE:America/Anchorage
BEGIN:VTIMEZONE
TZID:America/Anchorage
BEGIN:STANDARD
TZNAME:AKST
DTSTART:20241103T020000
TZOFFSETFROM:-0800
TZOFFSETTO:-0900
RDATE:20251102T020000
RDATE:20261101T020000
END:STANDARD
BEGIN:DAYLIGHT
TZNAME:AKDT
DTSTART:20250309T020000
TZOFFSETFROM:-0900
TZOFFSETTO:-0800
RDATE:20260308T020000
END:DAYLIGHT
END:VTIMEZONE
BEGIN:VEVENT
UID:bc69946b-0f46-4023-b4c4-57a212fb30e0
DTSTAMP:20260422T173729Z
DESCRIPTION:Traditional Filipino Dance & Music Classes!!!  Details are bein
 g firmed up but contact Czarina for more information!!!
DTSTART;TZID=America/Anchorage:20250817T110000
DTEND;TZID=America/Anchorage:20250817T130000
LOCATION:TBA!!!
SUMMARY:Magsayawan Ketchikan Dance & Music Classes
END:VEVENT
END:VCALENDAR
