BEGIN:VCALENDAR
VERSION:2.0
PRODID:-//www.ketchikanarts.org//NONSGML kigkonsult.se iCalcreator 2.30.10/
 /
CALSCALE:GREGORIAN
METHOD:PUBLISH
UID:c9461ec9-4bf9-4dd4-aabc-ad00153836e2
X-WR-CALDESC:21+ Event - Call 907-225-8001 to Reserve
X-WR-RELCALID:ddb1874f81de84f251e13ec02c1faf30
X-WR-TIMEZONE:America/Anchorage
BEGIN:VTIMEZONE
TZID:America/Anchorage
BEGIN:STANDARD
TZNAME:AKST
DTSTART:20241103T020000
TZOFFSETFROM:-0800
TZOFFSETTO:-0900
RDATE:20251102T020000
RDATE:20261101T020000
END:STANDARD
BEGIN:DAYLIGHT
TZNAME:AKDT
DTSTART:20250309T020000
TZOFFSETFROM:-0900
TZOFFSETTO:-0800
RDATE:20260308T020000
END:DAYLIGHT
END:VTIMEZONE
BEGIN:VEVENT
UID:9aa57f9f-d87f-464f-affc-8c64ab0330bc
DTSTAMP:20260422T171146Z
DESCRIPTION:21+ Event - Call 907-225-8001 to Reserve
DTSTART;TZID=America/Anchorage:20250814T173000
DTEND;TZID=America/Anchorage:20250814T190000
LOCATION:Cape Fox Lodge - Shaa Hit B
SUMMARY:Sip & Paint
END:VEVENT
END:VCALENDAR
