BEGIN:VCALENDAR
VERSION:2.0
PRODID:-//www.ketchikanarts.org//NONSGML kigkonsult.se iCalcreator 2.30.10/
 /
CALSCALE:GREGORIAN
METHOD:PUBLISH
UID:ae7b6d62-f81e-407c-b882-dd690e5bcb9f
X-WR-CALDESC:Always noon to 1pm\, its a great opportunity to take your lunc
 h outside\, and hear great music performed by awesome local musicians!\n\n
 Music on the Dock is a program of the City of Ketchikan administered by th
 e Ketchikan Area Arts and Humanities Council.
X-WR-RELCALID:20aa6e2d06f214fa3568595b0a798c66
X-WR-TIMEZONE:America/Anchorage
BEGIN:VTIMEZONE
TZID:America/Anchorage
BEGIN:STANDARD
TZNAME:AKST
DTSTART:20241103T020000
TZOFFSETFROM:-0800
TZOFFSETTO:-0900
RDATE:20251102T020000
RDATE:20261101T020000
END:STANDARD
BEGIN:DAYLIGHT
TZNAME:AKDT
DTSTART:20250309T020000
TZOFFSETFROM:-0900
TZOFFSETTO:-0800
RDATE:20260308T020000
END:DAYLIGHT
END:VTIMEZONE
BEGIN:VEVENT
UID:88c29ff7-a838-464f-a413-47fc0fb07bd2
DTSTAMP:20260422T171740Z
DESCRIPTION:Always noon to 1pm\, its a great opportunity to take your lunch
  outside\, and hear great music performed by awesome local musicians!\n\nM
 usic on the Dock is a program of the City of Ketchikan administered by the
  Ketchikan Area Arts and Humanities Council.
DTSTART;TZID=America/Anchorage:20250812T120000
DTEND;TZID=America/Anchorage:20250812T130000
LOCATION:Berth 2 if its not raining\, Berth 3 shelter if it is!
SUMMARY:The Scattered Sunshine Trombone Choir performs during Music on the 
 Dock
END:VEVENT
END:VCALENDAR
