BEGIN:VCALENDAR
VERSION:2.0
PRODID:-//www.ketchikanarts.org//NONSGML kigkonsult.se iCalcreator 2.30.10/
 /
CALSCALE:GREGORIAN
METHOD:PUBLISH
UID:e5f11a93-fecf-48fa-b140-21c0f76433cc
X-WR-CALDESC:Join Summer SLAM in its New Location at the Alaska Legends Cid
 er & Wine on Dock Street. \n\nThe theme for August is....'Anniversary'\n\n
 $3 at the door.
X-WR-RELCALID:15a25ba26d8f809fcba49e5a2e94a470
X-WR-TIMEZONE:America/Anchorage
BEGIN:VTIMEZONE
TZID:America/Anchorage
BEGIN:STANDARD
TZNAME:AKST
DTSTART:20241103T020000
TZOFFSETFROM:-0800
TZOFFSETTO:-0900
RDATE:20251102T020000
RDATE:20261101T020000
END:STANDARD
BEGIN:DAYLIGHT
TZNAME:AKDT
DTSTART:20250309T020000
TZOFFSETFROM:-0900
TZOFFSETTO:-0800
RDATE:20260308T020000
END:DAYLIGHT
END:VTIMEZONE
BEGIN:VEVENT
UID:9e50ba9c-04cd-41be-b9cd-2d42313578f1
DTSTAMP:20260422T171252Z
DESCRIPTION:Join Summer SLAM in its New Location at the Alaska Legends Cide
 r & Wine on Dock Street. \n\nThe theme for August is....'Anniversary'\n\n$
 3 at the door.
DTSTART;TZID=America/Anchorage:20250812T190000
DTEND;TZID=America/Anchorage:20250812T210000
LOCATION:*NEW LOCATION* Alaska Legends Cider & Wine
SUMMARY:Summer SLAM!
END:VEVENT
END:VCALENDAR
