BEGIN:VCALENDAR
VERSION:2.0
PRODID:-//www.ketchikanarts.org//NONSGML kigkonsult.se iCalcreator 2.30.10/
 /
CALSCALE:GREGORIAN
METHOD:PUBLISH
UID:7fdf885c-0660-4401-bac1-dbfd5e678121
X-WR-CALDESC:
X-WR-RELCALID:74c223b307fcadb26f4f38977e41e3ea
X-WR-TIMEZONE:America/Anchorage
BEGIN:VTIMEZONE
TZID:America/Anchorage
BEGIN:STANDARD
TZNAME:AKST
DTSTART:20241103T020000
TZOFFSETFROM:-0800
TZOFFSETTO:-0900
RDATE:20251102T020000
RDATE:20261101T020000
END:STANDARD
BEGIN:DAYLIGHT
TZNAME:AKDT
DTSTART:20250309T020000
TZOFFSETFROM:-0900
TZOFFSETTO:-0800
RDATE:20260308T020000
END:DAYLIGHT
END:VTIMEZONE
BEGIN:VEVENT
UID:fdfde869-65ec-4361-9ac7-af7fc580b6bf
DTSTAMP:20260422T172347Z
DESCRIPTION:
DTSTART;TZID=America/Anchorage:20250812T180000
DTEND;TZID=America/Anchorage:20250812T200000
LOCATION:On a Boat!!!!
SUMMARY:Ketchikan Ocean Science Bowl Team - Rock the Boat Fundraiser
END:VEVENT
END:VCALENDAR
