BEGIN:VCALENDAR
VERSION:2.0
PRODID:-//www.ketchikanarts.org//NONSGML kigkonsult.se iCalcreator 2.30.10/
 /
CALSCALE:GREGORIAN
METHOD:PUBLISH
UID:2c595235-756e-4ea4-adef-f937a7d79f1d
X-WR-CALDESC:
X-WR-RELCALID:b53c839a4f9ebce181608613bafc5e1e
X-WR-TIMEZONE:America/Anchorage
BEGIN:VTIMEZONE
TZID:America/Anchorage
BEGIN:STANDARD
TZNAME:AKST
DTSTART:20241103T020000
TZOFFSETFROM:-0800
TZOFFSETTO:-0900
RDATE:20251102T020000
RDATE:20261101T020000
END:STANDARD
BEGIN:DAYLIGHT
TZNAME:AKDT
DTSTART:20250309T020000
TZOFFSETFROM:-0900
TZOFFSETTO:-0800
RDATE:20260308T020000
END:DAYLIGHT
END:VTIMEZONE
BEGIN:VEVENT
UID:82a0e41e-614b-42a8-9927-45f10b0a6421
DTSTAMP:20260422T171642Z
DESCRIPTION:
DTSTART;TZID=America/Anchorage:20250812T180000
DTEND;TZID=America/Anchorage:20250812T210000
LOCATION:Hole in the Wall
SUMMARY:Open Mic - hosted by Rick Llyod
END:VEVENT
END:VCALENDAR
