BEGIN:VCALENDAR
VERSION:2.0
PRODID:-//www.ketchikanarts.org//NONSGML kigkonsult.se iCalcreator 2.30.10/
 /
CALSCALE:GREGORIAN
METHOD:PUBLISH
UID:45c40307-bf54-4462-83d4-4f3cd35e7cd1
X-WR-CALDESC:
X-WR-RELCALID:db6f9cea0ae0dc6da98191331ea16ac0
X-WR-TIMEZONE:America/Anchorage
BEGIN:VTIMEZONE
TZID:America/Anchorage
BEGIN:STANDARD
TZNAME:AKST
DTSTART:20241103T020000
TZOFFSETFROM:-0800
TZOFFSETTO:-0900
RDATE:20251102T020000
RDATE:20261101T020000
END:STANDARD
BEGIN:DAYLIGHT
TZNAME:AKDT
DTSTART:20250309T020000
TZOFFSETFROM:-0900
TZOFFSETTO:-0800
RDATE:20260308T020000
END:DAYLIGHT
END:VTIMEZONE
BEGIN:VEVENT
UID:4349078f-8e03-49f4-a111-e6fcd7331484
DTSTAMP:20260422T172058Z
DESCRIPTION:
DTSTART;TZID=America/Anchorage:20250809T180000
DTEND;TZID=America/Anchorage:20250809T200000
LOCATION:116 Wood Road - Herring Cove
SUMMARY:Summer Concert Series - Herring Cove
END:VEVENT
END:VCALENDAR
