BEGIN:VCALENDAR
VERSION:2.0
PRODID:-//www.ketchikanarts.org//NONSGML kigkonsult.se iCalcreator 2.30.10/
 /
CALSCALE:GREGORIAN
METHOD:PUBLISH
UID:58897689-4aa8-4787-ad86-ba92ff5c4887
X-WR-CALDESC:Celebrate Ketchikan's young performers!!!!
X-WR-RELCALID:7eae630f78b0a1aa3f412325033a6e20
X-WR-TIMEZONE:America/Anchorage
BEGIN:VTIMEZONE
TZID:America/Anchorage
BEGIN:STANDARD
TZNAME:AKST
DTSTART:20241103T020000
TZOFFSETFROM:-0800
TZOFFSETTO:-0900
RDATE:20251102T020000
RDATE:20261101T020000
END:STANDARD
BEGIN:DAYLIGHT
TZNAME:AKDT
DTSTART:20250309T020000
TZOFFSETFROM:-0900
TZOFFSETTO:-0800
RDATE:20260308T020000
END:DAYLIGHT
END:VTIMEZONE
BEGIN:VEVENT
UID:b60e8cb9-915e-4601-a158-8b3caaec432b
DTSTAMP:20260422T172212Z
DESCRIPTION:Celebrate Ketchikan's young performers!!!!
DTSTART;TZID=America/Anchorage:20250809T143000
DTEND;TZID=America/Anchorage:20250809T160000
LOCATION:Schoenbar Middle School Commons
SUMMARY:Senior ArtsCool Performs 'Beetlejuice Jr.' - First City Players
END:VEVENT
END:VCALENDAR
