BEGIN:VCALENDAR
VERSION:2.0
PRODID:-//www.ketchikanarts.org//NONSGML kigkonsult.se iCalcreator 2.30.10/
 /
CALSCALE:GREGORIAN
METHOD:PUBLISH
UID:f570906d-3312-4f5b-8fb0-1dbce73de898
X-WR-CALDESC:Please come visit us on August 6th at 9am!!!!!
X-WR-RELCALID:672c547899306a023873572bf5c1dfa5
X-WR-TIMEZONE:America/Anchorage
BEGIN:VTIMEZONE
TZID:America/Anchorage
BEGIN:STANDARD
TZNAME:AKST
DTSTART:20241103T020000
TZOFFSETFROM:-0800
TZOFFSETTO:-0900
RDATE:20251102T020000
RDATE:20261101T020000
END:STANDARD
BEGIN:DAYLIGHT
TZNAME:AKDT
DTSTART:20250309T020000
TZOFFSETFROM:-0900
TZOFFSETTO:-0800
RDATE:20260308T020000
END:DAYLIGHT
END:VTIMEZONE
BEGIN:VEVENT
UID:4329291d-5741-430f-8203-83e4e5a57908
DTSTAMP:20260422T171252Z
DESCRIPTION:Please come visit us on August 6th at 9am!!!!!
DTSTART;TZID=America/Anchorage:20250805T020000
DTEND;TZID=America/Anchorage:20250805T020001
LOCATION:330 Main Street
SUMMARY:KAAHC closed
END:VEVENT
END:VCALENDAR
