BEGIN:VCALENDAR
VERSION:2.0
PRODID:-//www.ketchikanarts.org//NONSGML kigkonsult.se iCalcreator 2.30.10/
 /
CALSCALE:GREGORIAN
METHOD:PUBLISH
UID:68c70afa-5c26-4dd4-9d0f-cd606f8cec6c
X-WR-CALDESC:
X-WR-RELCALID:457a2e4865092cbd7065d13cd37de5a1
X-WR-TIMEZONE:America/Anchorage
BEGIN:VTIMEZONE
TZID:America/Anchorage
BEGIN:STANDARD
TZNAME:AKST
DTSTART:20241103T020000
TZOFFSETFROM:-0800
TZOFFSETTO:-0900
RDATE:20251102T020000
RDATE:20261101T020000
END:STANDARD
BEGIN:DAYLIGHT
TZNAME:AKDT
DTSTART:20250309T020000
TZOFFSETFROM:-0900
TZOFFSETTO:-0800
RDATE:20260308T020000
END:DAYLIGHT
END:VTIMEZONE
BEGIN:VEVENT
UID:a0dbb2b8-e82b-4c77-a597-7533f3ab7c26
DTSTAMP:20260422T173737Z
DESCRIPTION:
DTSTART;TZID=America/Anchorage:20250805T200000
DTEND;TZID=America/Anchorage:20250805T220000
LOCATION:Totem Bar
SUMMARY:Karaoke at the Totem Bar
END:VEVENT
END:VCALENDAR
