BEGIN:VCALENDAR
VERSION:2.0
PRODID:-//www.ketchikanarts.org//NONSGML kigkonsult.se iCalcreator 2.30.10/
 /
CALSCALE:GREGORIAN
METHOD:PUBLISH
UID:264b523e-465b-4a22-b21f-e5f9079fed93
X-WR-CALDESC:
X-WR-RELCALID:97785680d77a4f7cac2f3b6ab3873cfc
X-WR-TIMEZONE:America/Anchorage
BEGIN:VTIMEZONE
TZID:America/Anchorage
BEGIN:STANDARD
TZNAME:AKST
DTSTART:20241103T020000
TZOFFSETFROM:-0800
TZOFFSETTO:-0900
RDATE:20251102T020000
RDATE:20261101T020000
END:STANDARD
BEGIN:DAYLIGHT
TZNAME:AKDT
DTSTART:20250309T020000
TZOFFSETFROM:-0900
TZOFFSETTO:-0800
RDATE:20260308T020000
END:DAYLIGHT
END:VTIMEZONE
BEGIN:VEVENT
UID:31ebb484-b7c8-4010-a254-221aa5ff8124
DTSTAMP:20260422T171618Z
DESCRIPTION:
DTSTART;TZID=America/Anchorage:20250805T180000
DTEND;TZID=America/Anchorage:20250805T210000
LOCATION:Hole in the Wall
SUMMARY:Open Mic - hosted by Rick Llyod
END:VEVENT
END:VCALENDAR
