BEGIN:VCALENDAR
VERSION:2.0
PRODID:-//www.ketchikanarts.org//NONSGML kigkonsult.se iCalcreator 2.30.10/
 /
CALSCALE:GREGORIAN
METHOD:PUBLISH
UID:8c9f3674-c833-47e6-ad7f-61b66561f066
X-WR-CALDESC:Please come visit us on August 6th at 9am!!!!!
X-WR-RELCALID:b5b347ef937ff779388218575006773f
X-WR-TIMEZONE:America/Anchorage
BEGIN:VTIMEZONE
TZID:America/Anchorage
BEGIN:STANDARD
TZNAME:AKST
DTSTART:20241103T020000
TZOFFSETFROM:-0800
TZOFFSETTO:-0900
RDATE:20251102T020000
RDATE:20261101T020000
END:STANDARD
BEGIN:DAYLIGHT
TZNAME:AKDT
DTSTART:20250309T020000
TZOFFSETFROM:-0900
TZOFFSETTO:-0800
RDATE:20260308T020000
END:DAYLIGHT
END:VTIMEZONE
BEGIN:VEVENT
UID:dc9a82e7-03ff-4990-9c66-af00306e736c
DTSTAMP:20260422T171253Z
DESCRIPTION:Please come visit us on August 6th at 9am!!!!!
DTSTART;TZID=America/Anchorage:20250804T020000
DTEND;TZID=America/Anchorage:20250804T020001
LOCATION:330 Main Street
SUMMARY:KAAHC closed
END:VEVENT
END:VCALENDAR
