BEGIN:VCALENDAR
VERSION:2.0
PRODID:-//www.ketchikanarts.org//NONSGML kigkonsult.se iCalcreator 2.30.10/
 /
CALSCALE:GREGORIAN
METHOD:PUBLISH
UID:5c9a8f64-8c21-4cdb-bde3-ee29bbcae81b
X-WR-CALDESC:
X-WR-RELCALID:5a78e893ac37132804a51c9160e35305
X-WR-TIMEZONE:America/Anchorage
BEGIN:VTIMEZONE
TZID:America/Anchorage
BEGIN:STANDARD
TZNAME:AKST
DTSTART:20241103T020000
TZOFFSETFROM:-0800
TZOFFSETTO:-0900
RDATE:20251102T020000
RDATE:20261101T020000
END:STANDARD
BEGIN:DAYLIGHT
TZNAME:AKDT
DTSTART:20250309T020000
TZOFFSETFROM:-0900
TZOFFSETTO:-0800
RDATE:20260308T020000
END:DAYLIGHT
END:VTIMEZONE
BEGIN:VEVENT
UID:3558799a-08b5-45b9-a8af-b86282435409
DTSTAMP:20260422T171219Z
DESCRIPTION:
DTSTART;TZID=America/Anchorage:20250801T183000
DTEND;TZID=America/Anchorage:20250801T220000
LOCATION:125 Main Street
SUMMARY:Opening 'Deconstruction' - [Insert Art]
END:VEVENT
END:VCALENDAR
