BEGIN:VCALENDAR
VERSION:2.0
PRODID:-//www.ketchikanarts.org//NONSGML kigkonsult.se iCalcreator 2.30.10/
 /
CALSCALE:GREGORIAN
METHOD:PUBLISH
UID:38c22668-54a0-4eb6-8761-0a62e00757fb
X-WR-CALDESC:
X-WR-RELCALID:47d0a4f64d8ff5c60ec11954292379cb
X-WR-TIMEZONE:America/Anchorage
BEGIN:VTIMEZONE
TZID:America/Anchorage
BEGIN:STANDARD
TZNAME:AKST
DTSTART:20241103T020000
TZOFFSETFROM:-0800
TZOFFSETTO:-0900
RDATE:20251102T020000
RDATE:20261101T020000
END:STANDARD
BEGIN:DAYLIGHT
TZNAME:AKDT
DTSTART:20250309T020000
TZOFFSETFROM:-0900
TZOFFSETTO:-0800
RDATE:20260308T020000
END:DAYLIGHT
END:VTIMEZONE
BEGIN:VEVENT
UID:5da0a10f-7f67-4348-bdd6-c014b668b18a
DTSTAMP:20260422T173535Z
DESCRIPTION:
DTSTART;TZID=America/Anchorage:20250801T170000
DTEND;TZID=America/Anchorage:20250801T190000
LOCATION:Star Gallery - #5 Creek Street
SUMMARY:'My Head - Still in the Clouds' -exhibit by Marilyn Lee
END:VEVENT
END:VCALENDAR
