BEGIN:VCALENDAR
VERSION:2.0
PRODID:-//www.ketchikanarts.org//NONSGML kigkonsult.se iCalcreator 2.30.10/
 /
CALSCALE:GREGORIAN
METHOD:PUBLISH
UID:7825695c-a342-4cda-8882-5940c34df018
X-WR-CALDESC:
X-WR-RELCALID:ca512a5a814c6685e7c64e2a51473bdb
X-WR-TIMEZONE:America/Anchorage
BEGIN:VTIMEZONE
TZID:America/Anchorage
BEGIN:STANDARD
TZNAME:AKST
DTSTART:20241103T020000
TZOFFSETFROM:-0800
TZOFFSETTO:-0900
RDATE:20251102T020000
RDATE:20261101T020000
END:STANDARD
BEGIN:DAYLIGHT
TZNAME:AKDT
DTSTART:20250309T020000
TZOFFSETFROM:-0900
TZOFFSETTO:-0800
RDATE:20260308T020000
END:DAYLIGHT
END:VTIMEZONE
BEGIN:VEVENT
UID:ba08cf45-7fa8-40ed-8eec-b2b5ac178e68
DTSTAMP:20260422T185431Z
DESCRIPTION:
DTSTART;TZID=America/Anchorage:20250731T180000
DTEND;TZID=America/Anchorage:20250731T200000
LOCATION:Eagle's Nest
SUMMARY:Live Music at the Eagles Nest
END:VEVENT
END:VCALENDAR
