BEGIN:VCALENDAR
VERSION:2.0
PRODID:-//www.ketchikanarts.org//NONSGML kigkonsult.se iCalcreator 2.30.10/
 /
CALSCALE:GREGORIAN
METHOD:PUBLISH
UID:67dd9e98-005c-4867-8cd2-7c05febc1bce
X-WR-CALDESC:Bring your ukulele and have some fun playing with the group.\n
 Meets on Wednesdays at 3:45pm at the Inn at Creek Street!
X-WR-RELCALID:91713949e7a7f008c9b9c3ada430c4e0
X-WR-TIMEZONE:America/Anchorage
BEGIN:VTIMEZONE
TZID:America/Anchorage
BEGIN:STANDARD
TZNAME:AKST
DTSTART:20241103T020000
TZOFFSETFROM:-0800
TZOFFSETTO:-0900
RDATE:20251102T020000
RDATE:20261101T020000
END:STANDARD
BEGIN:DAYLIGHT
TZNAME:AKDT
DTSTART:20250309T020000
TZOFFSETFROM:-0900
TZOFFSETTO:-0800
RDATE:20260308T020000
END:DAYLIGHT
END:VTIMEZONE
BEGIN:VEVENT
UID:d60075dc-235f-4852-ad2a-624a59b360cd
DTSTAMP:20260422T185043Z
DESCRIPTION:Bring your ukulele and have some fun playing with the group.\nM
 eets on Wednesdays at 3:45pm at the Inn at Creek Street!
DTSTART;TZID=America/Anchorage:20250730T154500
DTEND;TZID=America/Anchorage:20250730T164500
LOCATION:Bayside Hotel Lobby
SUMMARY:The Ukelele Group
END:VEVENT
END:VCALENDAR
